Package: HiLDA Version: 1.24.0 Command: /home/biocbuild/R/R/bin/R CMD build --keep-empty-dirs --no-resave-data HiLDA StartedAt: 2025-11-11 02:27:43 -0000 (Tue, 11 Nov 2025) EndedAt: 2025-11-11 02:27:44 -0000 (Tue, 11 Nov 2025) EllapsedTime: 1.0 seconds RetCode: 1 Status: ERROR PackageFile: None PackageFileSize: NA