Package: HiLDA Version: 1.23.0 Command: chmod a+r HiLDA -R && F:\biocbuild\bbs-3.22-bioc\R\bin\R.exe CMD build --keep-empty-dirs --no-resave-data HiLDA StartedAt: 2025-08-14 20:48:15 -0400 (Thu, 14 Aug 2025) EndedAt: 2025-08-14 20:54:03 -0400 (Thu, 14 Aug 2025) EllapsedTime: 347.7 seconds RetCode: 0 Status: OK PackageFile: HiLDA_1.23.0.tar.gz PackageFileSize: 2.399 MiB