Package: HiLDA Version: 1.24.0 Command: /home/biocbuild/bbs-3.22-bioc/R/bin/R CMD check --install=check:HiLDA.install-out.txt --library=/home/biocbuild/bbs-3.22-bioc/R/site-library --timings HiLDA_1.24.0.tar.gz StartedAt: 2025-11-12 00:33:39 -0500 (Wed, 12 Nov 2025) EndedAt: 2025-11-12 00:41:31 -0500 (Wed, 12 Nov 2025) EllapsedTime: 472.6 seconds RetCode: 0 Status: OK CheckDir: HiLDA.Rcheck Warnings: 0