Package: HiLDA Version: 1.22.0 Command: /home/biocbuild/bbs-3.21-bioc/R/bin/R CMD INSTALL HiLDA StartedAt: 2025-09-28 16:14:27 -0400 (Sun, 28 Sep 2025) EndedAt: 2025-09-28 16:14:45 -0400 (Sun, 28 Sep 2025) EllapsedTime: 18.1 seconds RetCode: 0 Status: OK