Package: HiLDA Version: 1.22.0 Command: /home/biocbuild/bbs-3.21-bioc/R/bin/R CMD build --keep-empty-dirs --no-resave-data HiLDA StartedAt: 2025-09-28 18:13:23 -0400 (Sun, 28 Sep 2025) EndedAt: 2025-09-28 18:16:29 -0400 (Sun, 28 Sep 2025) EllapsedTime: 186.2 seconds RetCode: 0 Status: OK PackageFile: HiLDA_1.22.0.tar.gz PackageFileSize: 2.456 MiB