Package: HiLDA Version: 1.22.0 Command: /Library/Frameworks/R.framework/Resources/bin/R CMD build --keep-empty-dirs --no-resave-data HiLDA StartedAt: 2025-10-13 19:45:17 -0400 (Mon, 13 Oct 2025) EndedAt: 2025-10-13 19:53:30 -0400 (Mon, 13 Oct 2025) EllapsedTime: 493.3 seconds RetCode: 0 Status: OK PackageFile: HiLDA_1.22.0.tar.gz PackageFileSize: 2.462 MiB