Package: HiLDA Version: 1.22.0 Command: /Library/Frameworks/R.framework/Resources/bin/R CMD build --keep-empty-dirs --no-resave-data HiLDA StartedAt: 2025-04-21 17:07:26 -0400 (Mon, 21 Apr 2025) EndedAt: 2025-04-21 17:12:44 -0400 (Mon, 21 Apr 2025) EllapsedTime: 318.2 seconds RetCode: 0 Status: OK PackageFile: HiLDA_1.22.0.tar.gz PackageFileSize: 2.46 MiB