Package: HiLDA Version: 1.22.0 Command: rm -rf HiLDA.buildbin-libdir && mkdir HiLDA.buildbin-libdir && /Users/biocbuild/BBS/utils/build-universal.sh HiLDA_1.22.0.tar.gz /Library/Frameworks/R.framework/Resources/bin/R HiLDA.buildbin-libdir StartedAt: 2025-04-22 00:49:55 -0400 (Tue, 22 Apr 2025) EndedAt: 2025-04-22 00:50:21 -0400 (Tue, 22 Apr 2025) EllapsedTime: 25.4 seconds RetCode: 0 Status: OK PackageFile: HiLDA_1.22.0.tgz PackageFileSize: 2.607 MiB