Package: HiLDA Version: 1.22.0 Command: /home/biocbuild/R/R/bin/R CMD INSTALL HiLDA StartedAt: 2025-09-25 21:19:46 -0000 (Thu, 25 Sep 2025) EndedAt: 2025-09-25 21:19:47 -0000 (Thu, 25 Sep 2025) EllapsedTime: 1.0 seconds RetCode: 1 Status: ERROR