Package: HiLDA Version: 1.22.0 Command: /home/biocbuild/R/R/bin/R CMD build --keep-empty-dirs --no-resave-data HiLDA StartedAt: 2025-09-26 02:28:27 -0000 (Fri, 26 Sep 2025) EndedAt: 2025-09-26 02:28:28 -0000 (Fri, 26 Sep 2025) EllapsedTime: 1.0 seconds RetCode: 1 Status: ERROR PackageFile: None PackageFileSize: NA