Package: HiLDA Version: 1.22.0 Command: /Library/Frameworks/R.framework/Resources/bin/R CMD INSTALL HiLDA StartedAt: 2025-09-29 18:42:41 -0400 (Mon, 29 Sep 2025) EndedAt: 2025-09-29 18:43:01 -0400 (Mon, 29 Sep 2025) EllapsedTime: 19.7 seconds RetCode: 0 Status: OK