Package: HiLDA Version: 1.22.0 Command: /Library/Frameworks/R.framework/Resources/bin/R CMD build --keep-empty-dirs --no-resave-data HiLDA StartedAt: 2025-09-30 02:23:16 -0400 (Tue, 30 Sep 2025) EndedAt: 2025-09-30 02:27:07 -0400 (Tue, 30 Sep 2025) EllapsedTime: 231.2 seconds RetCode: 0 Status: OK PackageFile: HiLDA_1.22.0.tar.gz PackageFileSize: 2.462 MiB