Package: HiLDA Version: 1.22.0 Command: rm -rf HiLDA.buildbin-libdir && mkdir HiLDA.buildbin-libdir && /Users/biocbuild/BBS/utils/build-universal.sh HiLDA_1.22.0.tar.gz /Library/Frameworks/R.framework/Resources/bin/R HiLDA.buildbin-libdir StartedAt: 2025-10-01 18:50:35 -0400 (Wed, 01 Oct 2025) EndedAt: 2025-10-01 18:50:56 -0400 (Wed, 01 Oct 2025) EllapsedTime: 21.8 seconds RetCode: 0 Status: OK PackageFile: HiLDA_1.22.0.tgz PackageFileSize: 2.609 MiB