Package: HiCool Version: 1.10.0 Command: /home/biocbuild/bbs-3.22-bioc/R/bin/R CMD INSTALL HiCool StartedAt: 2025-11-13 15:26:17 -0500 (Thu, 13 Nov 2025) EndedAt: 2025-11-13 15:26:38 -0500 (Thu, 13 Nov 2025) EllapsedTime: 20.4 seconds RetCode: 0 Status: OK