Package: HiContacts Version: 1.12.0 Command: /home/biocbuild/R/R/bin/R CMD build --keep-empty-dirs --no-resave-data HiContacts StartedAt: 2025-11-14 02:29:37 -0000 (Fri, 14 Nov 2025) EndedAt: 2025-11-14 02:37:41 -0000 (Fri, 14 Nov 2025) EllapsedTime: 483.3 seconds RetCode: 0 Status: OK PackageFile: HiContacts_1.12.0.tar.gz PackageFileSize: 1.965 MiB