Package: HiContacts Version: 1.10.0 Command: /home/biocbuild/bbs-3.21-bioc/R/bin/R CMD INSTALL HiContacts StartedAt: 2025-10-12 15:24:55 -0400 (Sun, 12 Oct 2025) EndedAt: 2025-10-12 15:25:23 -0400 (Sun, 12 Oct 2025) EllapsedTime: 28.7 seconds RetCode: 0 Status: OK