Package: HiContacts Version: 1.10.0 Command: /home/biocbuild/bbs-3.21-bioc/R/bin/R CMD build --keep-empty-dirs --no-resave-data HiContacts StartedAt: 2025-10-12 17:57:30 -0400 (Sun, 12 Oct 2025) EndedAt: 2025-10-12 18:02:47 -0400 (Sun, 12 Oct 2025) EllapsedTime: 317.4 seconds RetCode: 0 Status: OK PackageFile: HiContacts_1.10.0.tar.gz PackageFileSize: 4.439 MiB