Package: HiContacts Version: 1.10.0 Command: /Library/Frameworks/R.framework/Resources/bin/R CMD INSTALL HiContacts StartedAt: 2025-10-09 16:39:22 -0400 (Thu, 09 Oct 2025) EndedAt: 2025-10-09 16:39:59 -0400 (Thu, 09 Oct 2025) EllapsedTime: 37.0 seconds RetCode: 0 Status: OK