Package: HiContacts Version: 1.10.0 Command: /Library/Frameworks/R.framework/Resources/bin/R CMD build --keep-empty-dirs --no-resave-data HiContacts StartedAt: 2025-10-14 02:15:40 -0400 (Tue, 14 Oct 2025) EndedAt: 2025-10-14 02:23:07 -0400 (Tue, 14 Oct 2025) EllapsedTime: 446.4 seconds RetCode: 0 Status: OK PackageFile: HiContacts_1.10.0.tar.gz PackageFileSize: 5.376 MiB