Package: HiCcompare Version: 1.32.0 Command: /home/biocbuild/R/R/bin/R CMD INSTALL HiCcompare StartedAt: 2025-11-13 21:39:28 -0000 (Thu, 13 Nov 2025) EndedAt: 2025-11-13 21:40:13 -0000 (Thu, 13 Nov 2025) EllapsedTime: 45.3 seconds RetCode: 0 Status: OK