Package: HiCcompare Version: 1.32.0 Command: /home/biocbuild/bbs-3.22-bioc/R/bin/R CMD check --install=check:HiCcompare.install-out.txt --library=/home/biocbuild/bbs-3.22-bioc/R/site-library --timings HiCcompare_1.32.0.tar.gz StartedAt: 2025-11-12 00:29:08 -0500 (Wed, 12 Nov 2025) EndedAt: 2025-11-12 00:33:39 -0500 (Wed, 12 Nov 2025) EllapsedTime: 270.3 seconds RetCode: 0 Status: OK CheckDir: HiCcompare.Rcheck Warnings: 0