Package: HiCcompare Version: 1.30.0 Command: /home/biocbuild/bbs-3.21-bioc/R/bin/R CMD build --keep-empty-dirs --no-resave-data HiCcompare StartedAt: 2025-10-05 17:59:09 -0400 (Sun, 05 Oct 2025) EndedAt: 2025-10-05 18:00:12 -0400 (Sun, 05 Oct 2025) EllapsedTime: 63.0 seconds RetCode: 0 Status: OK PackageFile: HiCcompare_1.30.0.tar.gz PackageFileSize: 3.588 MiB