Package: HiCcompare Version: 1.30.0 Command: /Library/Frameworks/R.framework/Resources/bin/R CMD INSTALL HiCcompare StartedAt: 2025-10-13 15:56:45 -0400 (Mon, 13 Oct 2025) EndedAt: 2025-10-13 15:58:02 -0400 (Mon, 13 Oct 2025) EllapsedTime: 76.8 seconds RetCode: 0 Status: OK