Package: HiCcompare Version: 1.30.0 Command: /Library/Frameworks/R.framework/Resources/bin/R CMD build --keep-empty-dirs --no-resave-data HiCcompare StartedAt: 2025-10-13 19:43:21 -0400 (Mon, 13 Oct 2025) EndedAt: 2025-10-13 19:45:36 -0400 (Mon, 13 Oct 2025) EllapsedTime: 134.2 seconds RetCode: 0 Status: OK PackageFile: HiCcompare_1.30.0.tar.gz PackageFileSize: 3.687 MiB