Package: HiCcompare Version: 1.30.0 Command: /Library/Frameworks/R.framework/Resources/bin/R CMD INSTALL HiCcompare StartedAt: 2025-10-02 16:52:18 -0400 (Thu, 02 Oct 2025) EndedAt: 2025-10-02 16:53:05 -0400 (Thu, 02 Oct 2025) EllapsedTime: 47.0 seconds RetCode: 0 Status: OK