Package: HiCcompare Version: 1.30.0 Command: rm -rf HiCcompare.buildbin-libdir && mkdir HiCcompare.buildbin-libdir && /Users/biocbuild/BBS/utils/build-universal.sh HiCcompare_1.30.0.tar.gz /Library/Frameworks/R.framework/Resources/bin/R HiCcompare.buildbin-libdir StartedAt: 2025-10-04 18:20:25 -0400 (Sat, 04 Oct 2025) EndedAt: 2025-10-04 18:21:17 -0400 (Sat, 04 Oct 2025) EllapsedTime: 52.0 seconds RetCode: 0 Status: OK PackageFile: HiCcompare_1.30.0.tgz PackageFileSize: 3.804 MiB