Back to Build/check report for BioC 3.22:   simplified   long
ABCDEFG[H]IJKLMNOPQRSTUVWXYZ

This page was generated on 2025-11-13 11:55 -0500 (Thu, 13 Nov 2025).

HostnameOSArch (*)R versionInstalled pkgs
taishanLinux (openEuler 24.03 LTS)aarch644.5.0 (2025-04-11) -- "How About a Twenty-Six" 4668
Click on any hostname to see more info about the system (e.g. compilers)      (*) as reported by 'uname -p', except on Windows and Mac OS X

All results for package HiCcompare


To the developers/maintainers of the HiCcompare package:
- Allow up to 24 hours (and sometimes 48 hours) for your latest push to git@git.bioconductor.org:packages/HiCcompare.git to reflect on this report. See Troubleshooting Build Report for more information.
- Use the following Renviron settings to reproduce errors and warnings.
- If 'R CMD check' started to fail recently on the Linux builder(s) over a missing dependency, add the missing dependency to 'Suggests:' in your DESCRIPTION file. See Renviron.bioc for more information.

raw results

Package 979/2361HostnameOS / ArchINSTALLBUILDCHECKBUILD BIN
HiCcompare 1.32.0  (landing page)
Mikhail Dozmorov
Snapshot Date: 2025-11-12 13:45 -0500 (Wed, 12 Nov 2025)
git_url: https://git.bioconductor.org/packages/HiCcompare
git_branch: RELEASE_3_22
git_last_commit: 9add140
git_last_commit_date: 2025-10-29 10:39:45 -0500 (Wed, 29 Oct 2025)
taishanLinux (openEuler 24.03 LTS) / aarch64  OK    OK    OK  



Results for Bioconductor software packages that depend directly on package HiCcompare

QUICK STATSOS / ArchINSTALLBUILDCHECKBUILD BIN
taishanLinux (openEuler 24.03 LTS) / aarch64
004
004
0013
Package 1/4HostnameOS / ArchINSTALLBUILDCHECKBUILD BIN
multiHiCcompare 1.28.0  (landing page)
Mikhail Dozmorov
git_last_commit: 5d0766c
git_last_commit_date: 2025-10-29 10:46:53 -0500
taishanLinux (openEuler 24.03 LTS) / aarch64  OK    OK    OK  
Package 2/4HostnameOS / ArchINSTALLBUILDCHECKBUILD BIN
scHiCcompare 1.2.0  (landing page)
My Nguyen
git_last_commit: bb3c095
git_last_commit_date: 2025-10-29 11:36:12 -0500
taishanLinux (openEuler 24.03 LTS) / aarch64  OK    OK    WARNINGS  
Package 3/4HostnameOS / ArchINSTALLBUILDCHECKBUILD BIN
SpectralTAD 1.26.0  (landing page)
Mikhail Dozmorov
git_last_commit: 1a597b5
git_last_commit_date: 2025-10-29 10:50:13 -0500
taishanLinux (openEuler 24.03 LTS) / aarch64  OK    OK    OK  
Package 4/4HostnameOS / ArchINSTALLBUILDCHECKBUILD BIN
TADCompare 1.20.0  (landing page)
Mikhail Dozmorov
git_last_commit: da26eff
git_last_commit_date: 2025-10-29 10:59:42 -0500
taishanLinux (openEuler 24.03 LTS) / aarch64  OK    OK    OK