Package: HiCaptuRe Version: 1.0.0 Command: /home/biocbuild/bbs-3.22-bioc/R/bin/R CMD check --install=check:HiCaptuRe.install-out.txt --library=/home/biocbuild/bbs-3.22-bioc/R/site-library --timings HiCaptuRe_1.0.0.tar.gz StartedAt: 2025-11-15 00:35:04 -0500 (Sat, 15 Nov 2025) EndedAt: 2025-11-15 00:43:17 -0500 (Sat, 15 Nov 2025) EllapsedTime: 493.6 seconds RetCode: 0 Status: OK CheckDir: HiCaptuRe.Rcheck Warnings: 0