Package: HiCaptuRe Version: 1.0.0 Command: /Library/Frameworks/R.framework/Resources/bin/R CMD build --keep-empty-dirs --no-resave-data HiCaptuRe StartedAt: 2025-11-03 17:20:55 -0500 (Mon, 03 Nov 2025) EndedAt: 2025-11-03 17:23:25 -0500 (Mon, 03 Nov 2025) EllapsedTime: 149.5 seconds RetCode: 0 Status: OK PackageFile: HiCaptuRe_1.0.0.tar.gz PackageFileSize: 1.906 MiB