Package: HiCPotts Version: 1.0.0 Command: /home/biocbuild/bbs-3.22-bioc/R/bin/R CMD INSTALL HiCPotts StartedAt: 2025-11-11 15:32:33 -0500 (Tue, 11 Nov 2025) EndedAt: 2025-11-11 15:33:31 -0500 (Tue, 11 Nov 2025) EllapsedTime: 58.1 seconds RetCode: 0 Status: OK