Package: HiCPotts Version: 1.0.0 Command: /home/biocbuild/bbs-3.22-bioc/R/bin/R CMD check --install=check:HiCPotts.install-out.txt --library=/home/biocbuild/bbs-3.22-bioc/R/site-library --timings HiCPotts_1.0.0.tar.gz StartedAt: 2025-11-18 05:01:47 -0500 (Tue, 18 Nov 2025) EndedAt: 2025-11-18 05:07:40 -0500 (Tue, 18 Nov 2025) EllapsedTime: 352.4 seconds RetCode: 0 Status: OK CheckDir: HiCPotts.Rcheck Warnings: 0