Package: HiCPotts Version: 1.0.0 Command: /Library/Frameworks/R.framework/Resources/bin/R CMD INSTALL HiCPotts StartedAt: 2025-11-03 15:35:50 -0500 (Mon, 03 Nov 2025) EndedAt: 2025-11-03 15:36:55 -0500 (Mon, 03 Nov 2025) EllapsedTime: 65.1 seconds RetCode: 0 Status: OK