Package: HiCPotts Version: 1.0.0 Command: /Library/Frameworks/R.framework/Resources/bin/R CMD build --keep-empty-dirs --no-resave-data HiCPotts StartedAt: 2025-11-03 17:21:37 -0500 (Mon, 03 Nov 2025) EndedAt: 2025-11-03 17:22:59 -0500 (Mon, 03 Nov 2025) EllapsedTime: 81.1 seconds RetCode: 0 Status: OK PackageFile: HiCPotts_1.0.0.tar.gz PackageFileSize: 1.719 MiB