Package: HiCPotts Version: 1.0.0 Command: /Library/Frameworks/R.framework/Resources/bin/R CMD build --keep-empty-dirs --no-resave-data HiCPotts StartedAt: 2025-11-10 16:42:11 -0500 (Mon, 10 Nov 2025) EndedAt: 2025-11-10 16:42:38 -0500 (Mon, 10 Nov 2025) EllapsedTime: 26.3 seconds RetCode: 0 Status: OK PackageFile: HiCPotts_1.0.0.tar.gz PackageFileSize: 1.719 MiB