Package: HiCPotts Version: 1.0.0 Command: rm -rf HiCPotts.buildbin-libdir && mkdir HiCPotts.buildbin-libdir && /Users/biocbuild/BBS/utils/build-universal.sh HiCPotts_1.0.0.tar.gz /Library/Frameworks/R.framework/Resources/bin/R HiCPotts.buildbin-libdir StartedAt: 2025-11-10 23:23:10 -0500 (Mon, 10 Nov 2025) EndedAt: 2025-11-10 23:23:30 -0500 (Mon, 10 Nov 2025) EllapsedTime: 20.4 seconds RetCode: 0 Status: OK PackageFile: HiCPotts_1.0.0.tgz PackageFileSize: 1.85 MiB