Package: HiCParser Version: 1.2.0 Command: /home/biocbuild/R/R/bin/R CMD INSTALL HiCParser StartedAt: 2025-11-13 21:31:03 -0000 (Thu, 13 Nov 2025) EndedAt: 2025-11-13 21:31:44 -0000 (Thu, 13 Nov 2025) EllapsedTime: 41.5 seconds RetCode: 0 Status: OK