Package: HiCParser Version: 1.2.0 Command: /home/biocbuild/R/R/bin/R CMD build --keep-empty-dirs --no-resave-data HiCParser StartedAt: 2025-11-11 02:25:32 -0000 (Tue, 11 Nov 2025) EndedAt: 2025-11-11 02:26:36 -0000 (Tue, 11 Nov 2025) EllapsedTime: 64.0 seconds RetCode: 0 Status: OK PackageFile: HiCParser_1.2.0.tar.gz PackageFileSize: 391.9 KiB