Package: HiCParser Version: 1.2.0 Command: /home/biocbuild/bbs-3.22-bioc/R/bin/R CMD INSTALL HiCParser StartedAt: 2025-11-11 15:27:40 -0500 (Tue, 11 Nov 2025) EndedAt: 2025-11-11 15:28:09 -0500 (Tue, 11 Nov 2025) EllapsedTime: 28.6 seconds RetCode: 0 Status: OK