Package: HiCParser Version: 1.0.0 Command: /home/biocbuild/bbs-3.21-bioc/R/bin/R CMD INSTALL HiCParser StartedAt: 2025-10-01 15:25:47 -0400 (Wed, 01 Oct 2025) EndedAt: 2025-10-01 15:26:15 -0400 (Wed, 01 Oct 2025) EllapsedTime: 28.7 seconds RetCode: 0 Status: OK