Package: HiCParser Version: 1.0.0 Command: /home/biocbuild/bbs-3.21-bioc/R/bin/R CMD build --keep-empty-dirs --no-resave-data HiCParser StartedAt: 2025-10-01 18:02:48 -0400 (Wed, 01 Oct 2025) EndedAt: 2025-10-01 18:03:38 -0400 (Wed, 01 Oct 2025) EllapsedTime: 50.0 seconds RetCode: 0 Status: OK PackageFile: HiCParser_1.0.0.tar.gz PackageFileSize: 324.3 KiB