Package: HiCParser Version: 1.0.0 Command: /Library/Frameworks/R.framework/Resources/bin/R CMD build --keep-empty-dirs --no-resave-data HiCParser StartedAt: 2025-10-13 19:44:05 -0400 (Mon, 13 Oct 2025) EndedAt: 2025-10-13 19:45:59 -0400 (Mon, 13 Oct 2025) EllapsedTime: 114.7 seconds RetCode: 0 Status: OK PackageFile: HiCParser_1.0.0.tar.gz PackageFileSize: 324.4 KiB