Package: HiCParser Version: 1.0.0 Command: rm -rf HiCParser.buildbin-libdir && mkdir HiCParser.buildbin-libdir && /Users/biocbuild/BBS/utils/build-universal.sh HiCParser_1.0.0.tar.gz /Library/Frameworks/R.framework/Resources/bin/R HiCParser.buildbin-libdir StartedAt: 2025-10-14 13:43:04 -0400 (Tue, 14 Oct 2025) EndedAt: 2025-10-14 13:44:55 -0400 (Tue, 14 Oct 2025) EllapsedTime: 111.0 seconds RetCode: 0 Status: OK PackageFile: HiCParser_1.0.0.tgz PackageFileSize: 401.2 KiB