Package: HiCParser Version: 1.0.0 Command: /home/biocbuild/R/R/bin/R CMD build --keep-empty-dirs --no-resave-data HiCParser StartedAt: 2025-09-26 02:26:26 -0000 (Fri, 26 Sep 2025) EndedAt: 2025-09-26 02:27:34 -0000 (Fri, 26 Sep 2025) EllapsedTime: 68.0 seconds RetCode: 0 Status: OK PackageFile: HiCParser_1.0.0.tar.gz PackageFileSize: 392 KiB