Package: HiCParser Version: 1.0.0 Command: /Library/Frameworks/R.framework/Resources/bin/R CMD INSTALL HiCParser StartedAt: 2025-10-02 16:28:59 -0400 (Thu, 02 Oct 2025) EndedAt: 2025-10-02 16:29:31 -0400 (Thu, 02 Oct 2025) EllapsedTime: 32.8 seconds RetCode: 0 Status: OK