Package: HiCParser Version: 1.0.0 Command: /Library/Frameworks/R.framework/Resources/bin/R CMD build --keep-empty-dirs --no-resave-data HiCParser StartedAt: 2025-10-03 02:15:17 -0400 (Fri, 03 Oct 2025) EndedAt: 2025-10-03 02:16:13 -0400 (Fri, 03 Oct 2025) EllapsedTime: 56.4 seconds RetCode: 0 Status: OK PackageFile: HiCParser_1.0.0.tar.gz PackageFileSize: 324.4 KiB