Package: HiCParser Version: 1.0.0 Command: rm -rf HiCParser.buildbin-libdir && mkdir HiCParser.buildbin-libdir && /Users/biocbuild/BBS/utils/build-universal.sh HiCParser_1.0.0.tar.gz /Library/Frameworks/R.framework/Resources/bin/R HiCParser.buildbin-libdir StartedAt: 2025-10-04 18:20:45 -0400 (Sat, 04 Oct 2025) EndedAt: 2025-10-04 18:21:22 -0400 (Sat, 04 Oct 2025) EllapsedTime: 37.2 seconds RetCode: 0 Status: OK PackageFile: HiCParser_1.0.0.tgz PackageFileSize: 397.7 KiB