Package: HiCExperiment Version: 1.10.0 Command: /home/biocbuild/bbs-3.22-bioc/R/bin/R CMD INSTALL HiCExperiment StartedAt: 2025-11-11 15:29:07 -0500 (Tue, 11 Nov 2025) EndedAt: 2025-11-11 15:29:36 -0500 (Tue, 11 Nov 2025) EllapsedTime: 28.6 seconds RetCode: 0 Status: OK