Package: HiCExperiment Version: 1.10.0 Command: /home/biocbuild/bbs-3.22-bioc/R/bin/R CMD build --keep-empty-dirs --no-resave-data --md5 HiCExperiment StartedAt: 2025-11-11 18:11:46 -0500 (Tue, 11 Nov 2025) EndedAt: 2025-11-11 18:14:29 -0500 (Tue, 11 Nov 2025) EllapsedTime: 163.1 seconds RetCode: 0 Status: OK PackageFile: HiCExperiment_1.10.0.tar.gz PackageFileSize: 1014 KiB