Package: HiCExperiment Version: 1.10.0 Command: /Library/Frameworks/R.framework/Resources/bin/R CMD build --keep-empty-dirs --no-resave-data HiCExperiment StartedAt: 2025-11-03 17:21:16 -0500 (Mon, 03 Nov 2025) EndedAt: 2025-11-03 17:24:52 -0500 (Mon, 03 Nov 2025) EllapsedTime: 216.2 seconds RetCode: 0 Status: OK PackageFile: HiCExperiment_1.10.0.tar.gz PackageFileSize: 1011 KiB