Package: HiCDOC Version: 1.12.0 Command: /home/biocbuild/bbs-3.22-bioc/R/bin/R CMD INSTALL HiCDOC StartedAt: 2025-11-11 15:36:30 -0500 (Tue, 11 Nov 2025) EndedAt: 2025-11-11 15:37:12 -0500 (Tue, 11 Nov 2025) EllapsedTime: 41.5 seconds RetCode: 0 Status: OK